BEGIN:VCALENDAR
VERSION:2.0
PRODID:-//wp-events-plugin.com//7.2.3.1//EN
BEGIN:VEVENT
UID:822@northconwaynh.com
DTSTART;TZID=America/New_York:20260613T090000
DTEND;TZID=America/New_York:20260613T163000
DTSTAMP:20260421T162416Z
URL:https://northconwaynh.com/events/9th-annual-trails-day/
SUMMARY:9th Annual Trails Day
DESCRIPTION:For anyone who’s had the privilege of bushwhacking in the Whi
 te Mountain National Forest (WMNF)\, you know just how instrumental the tr
 ails really are.\nIf you think our trails are rugged\, try pushing your wa
 y to the top of one of our 4000-footers off trail\, amid the “pencil woo
 ds” — conifers so dense you can’t even turn around to quit so you st
 and there\, angry\, frustrated\, almost sobbing. Wishing desperately at th
 at point that you had a trail to walk on. Yeah\, the trails mean that much
 . That also means your volunteering to help the trails is that important.\
 n\nFor 2026\, the plan is to demolish two cross-country ski bridges on the
  lower Nanamocomuck (Nah-Nah-Mah-Coh-Muck) Ski Trail. We’ve done this so
 rt of work in the past and it was fun\, challenging\, and quite interestin
 g work. If this sounds good to you\, please keep reading for the details t
 hen sign up today.\n\nThis event is the collaborative work of these co-spo
 nsors:\n\n 	NH Trailworkers’ Group »\n 	Wild Raven Endurance Coaching
  »\n 	Tuckerman Brewing Company »\n 	US Forest Service »\n 	Redline 
 Guiding LLC »\n\nSign up today!
ATTACH;FMTTYPE=image/jpeg:https://northconwaynh.com/wp-content/uploads/202
 6/04/IMG_1768.png
CATEGORIES:Hiking,Outdoors,Recreation
LOCATION:https://redlineguiding.com/2026/03/our-9th-annual-trails-day/
END:VEVENT
BEGIN:VTIMEZONE
TZID:America/New_York
X-LIC-LOCATION:America/New_York
BEGIN:DAYLIGHT
DTSTART:20260308T030000
TZOFFSETFROM:-0500
TZOFFSETTO:-0400
TZNAME:EDT
END:DAYLIGHT
END:VTIMEZONE
END:VCALENDAR