BEGIN:VCALENDAR
VERSION:2.0
PRODID:-//wp-events-plugin.com//7.2.3.1//EN
BEGIN:VEVENT
UID:824@northconwaynh.com
DTSTART;TZID=America/New_York:20260613T120000
DTEND;TZID=America/New_York:20260613T160000
DTSTAMP:20260422T000857Z
URL:https://northconwaynh.com/events/an-afternoon-by-the-swift/
SUMMARY:An Afternoon by the Swift
DESCRIPTION:It's the best way to kick off the summer in Tamworth!\nJoin the
  Arts Council of Tamworth on the Tamworth Distilling back lawn for an afte
 rnoon of live music\, great food trucks\, drinks from Tamworth Distilling\
 , family games courtesy of the Tamworth Recreation Department\, and a whol
 e lot more.\n\nThis year's music line-up includes the DellaValla Trio\, 
 Food for Bears\, and the Jim McLaughlin &amp\; Al Hospers Group.\n\nThis 
 event is generously sponsored by Hobbs Tavern &amp\; Brewing Co. and Nor
 way Savings Bank\, with additional support from the Tamworth Foundation 
 and Tamworth Distilling.\n\nMore info at https://www.zeffy.com/en-US/tick
 eting/an-afternoon-by-the-swift--2026.
ATTACH;FMTTYPE=image/jpeg:https://northconwaynh.com/wp-content/uploads/202
 6/04/Poster-Full_Afternoon-by-the-Swift-2026.png
CATEGORIES:Live music,Nonprofit,Summer music
END:VEVENT
BEGIN:VTIMEZONE
TZID:America/New_York
X-LIC-LOCATION:America/New_York
BEGIN:DAYLIGHT
DTSTART:20260308T030000
TZOFFSETFROM:-0500
TZOFFSETTO:-0400
TZNAME:EDT
END:DAYLIGHT
END:VTIMEZONE
END:VCALENDAR