BEGIN:VCALENDAR
VERSION:2.0
PRODID:-//wp-events-plugin.com//7.2.3.1//EN
BEGIN:VEVENT
UID:726@northconwaynh.com
DTSTART;TZID=America/New_York:20260626T110000
DTEND;TZID=America/New_York:20260828T120000
DTSTAMP:20260309T183552Z
URL:https://northconwaynh.com/events/bubbles-beats/
SUMMARY:Bubbles &amp\; Beats
DESCRIPTION:Hundreds of bubbles fill the air as we boogie to kid-friendly b
 eats at The Bears! Join us on Fridays from 11 a.m. to 12 p.m. in the Court
 yard near The Gazebo for this special event for young families. Get it all
  in before nap time!\n\nEvery kid receives a free bubble wand with a speci
 al event Bear Pin to take home. We'll take song requests at the event unde
 r the big red tent. Pop in for a good time!\n\nVisit settlersgreen.com/eve
 nts/bubbles-beats-at-the-bears for more details.
ATTACH;FMTTYPE=image/jpeg:https://northconwaynh.com/wp-content/uploads/202
 6/03/BubblesAtTheBears-.png
CATEGORIES:Outdoors,Shopping,Summer music
LOCATION:Settlers Green\, 2 Common Court\, North Conway\, NH\, 03860\, Unit
 ed States
X-APPLE-STRUCTURED-LOCATION;VALUE=URI;X-ADDRESS=2 Common Court\, North Conw
 ay\, NH\, 03860\, United States;X-APPLE-RADIUS=100;X-TITLE=Settlers Green:
 geo:0,0
END:VEVENT
BEGIN:VTIMEZONE
TZID:America/New_York
X-LIC-LOCATION:America/New_York
BEGIN:DAYLIGHT
DTSTART:20260308T030000
TZOFFSETFROM:-0500
TZOFFSETTO:-0400
TZNAME:EDT
END:DAYLIGHT
END:VTIMEZONE
END:VCALENDAR