BEGIN:VCALENDAR
VERSION:2.0
PRODID:-//wp-events-plugin.com//7.2.3.1//EN
BEGIN:VEVENT
UID:45@northconwaynh.com
DTSTART;TZID=America/New_York:20251018T000000
DTEND;TZID=America/New_York:20251018T200000
DTSTAMP:20250827T143710Z
URL:https://northconwaynh.com/events/fall-fest/
SUMMARY:Fall Fest
DESCRIPTION:Tuckerman Brewing's largest event of the year is happening Octo
 ber 18th! Join us for an awesome day of beer &amp\; events.\n\n&nbsp\;\n\n
 -Fall Fest is happening October 18th\, the brewery is open 12-8pm\n\n-Live
  music by Rek'lis on the outdoor stage 4-7pm\n\n-Keg toss starts at 2pm. I
 t's free to play with prizes for the winners! 21+\n\n-Stein Hoist begins a
 round 4:30. It's $30 to enter and win or lose\, you keep the 1 liter stein
  and all the beer in it. Space is limited with sign up opening at 1pm. 21+
 \n\n-Private Diver oyster bar\, Mighty Mini Donut and the Tuck food truck 
 in the beer garden all day\n\n-And \, of course\, there will be plenty of 
 Vienna Lager flowing.\n\nFall Fest is family friendly and free to enter! K
 eep an eye on the Tuckerman social media for updates: @TuckermanBrewing
ATTACH;FMTTYPE=image/jpeg:https://northconwaynh.com/wp-content/uploads/202
 5/08/fall-fest-2025-all-sizes-3.png
CATEGORIES:Food &amp; Beverage
LOCATION:Tuckerman Brewing\, 66 Hobbs Street\, Conway\, NH\, 03818-6251\, U
 nited States
X-APPLE-STRUCTURED-LOCATION;VALUE=URI;X-ADDRESS=66 Hobbs Street\, Conway\, 
 NH\, 03818-6251\, United States;X-APPLE-RADIUS=100;X-TITLE=Tuckerman Brewi
 ng:geo:0,0
END:VEVENT
BEGIN:VTIMEZONE
TZID:America/New_York
X-LIC-LOCATION:America/New_York
BEGIN:DAYLIGHT
DTSTART:20250309T030000
TZOFFSETFROM:-0500
TZOFFSETTO:-0400
TZNAME:EDT
END:DAYLIGHT
END:VTIMEZONE
END:VCALENDAR