BEGIN:VCALENDAR
VERSION:2.0
PRODID:-//wp-events-plugin.com//7.2.3.1//EN
BEGIN:VEVENT
UID:792@northconwaynh.com
DTSTART;TZID=America/New_York:20261205T100000
DTEND;TZID=America/New_York:20261205T170000
DTSTAMP:20260311T024351Z
URL:https://northconwaynh.com/events/holiday-festival-tree-lighting-2/
SUMMARY:Holiday Festival &amp\; Tree Lighting
DESCRIPTION:A day of merriment! A variety of holiday happenings brought to 
 you by local event partners and the Settlers Green Event Staff throughout 
 the day at various locations around the shopper center. Holiday Festival c
 ulminates at 4 p.m. when we light the Christmas Tree at The Gazebo and giv
 e away a $500 holiday shopping spree to one lucky winner!\n\nVisit settler
 sgreen.com/events/holiday-festival-tree-lighting for more details.
ATTACH;FMTTYPE=image/jpeg:https://northconwaynh.com/wp-content/uploads/202
 6/03/SG-Holiday-19-web.jpg
CATEGORIES:Outdoors,Shopping
LOCATION:Settlers Green\, 2 Common Court\, North Conway\, NH\, 03860\, Unit
 ed States
X-APPLE-STRUCTURED-LOCATION;VALUE=URI;X-ADDRESS=2 Common Court\, North Conw
 ay\, NH\, 03860\, United States;X-APPLE-RADIUS=100;X-TITLE=Settlers Green:
 geo:0,0
END:VEVENT
BEGIN:VTIMEZONE
TZID:America/New_York
X-LIC-LOCATION:America/New_York
BEGIN:STANDARD
DTSTART:20261101T010000
TZOFFSETFROM:-0400
TZOFFSETTO:-0500
TZNAME:EST
END:STANDARD
END:VTIMEZONE
END:VCALENDAR