BEGIN:VCALENDAR
VERSION:2.0
PRODID:-//wp-events-plugin.com//7.2.3.1//EN
BEGIN:VEVENT
UID:62@northconwaynh.com
DTSTART;TZID=America/New_York:20251206T100000
DTEND;TZID=America/New_York:20251206T160000
DTSTAMP:20250910T012319Z
URL:https://northconwaynh.com/events/holiday-festival-tree-lighting/
SUMMARY:Holiday Festival &amp\; Tree Lighting
DESCRIPTION:A day of merriment! A variety of holiday happenings throughout
  the day at various locations around Settlers Green. The event culminates 
 at 4 p.m. when we light the Christmas Tree at The Gazebo.\n\n&nbsp\;\n\nV
 isit settlersgreen.com/events/holiday-festival for more details.
ATTACH;FMTTYPE=image/jpeg:https://northconwaynh.com/wp-content/uploads/202
 5/09/SG-Holiday-19-web.jpg
CATEGORIES:Outdoors
LOCATION:Settlers Green\, 2 Common Court\, North Conway\, NH\, 03860\, Unit
 ed States
X-APPLE-STRUCTURED-LOCATION;VALUE=URI;X-ADDRESS=2 Common Court\, North Conw
 ay\, NH\, 03860\, United States;X-APPLE-RADIUS=100;X-TITLE=Settlers Green:
 geo:0,0
END:VEVENT
BEGIN:VTIMEZONE
TZID:America/New_York
X-LIC-LOCATION:America/New_York
BEGIN:STANDARD
DTSTART:20251102T010000
TZOFFSETFROM:-0400
TZOFFSETTO:-0500
TZNAME:EST
END:STANDARD
END:VTIMEZONE
END:VCALENDAR