BEGIN:VCALENDAR
VERSION:2.0
PRODID:-//wp-events-plugin.com//7.2.3.1//EN
BEGIN:VEVENT
UID:801@northconwaynh.com
DTSTART;TZID=America/New_York:20260724T140000
DTEND;TZID=America/New_York:20260726T160000
DTSTAMP:20260326T205826Z
URL:https://northconwaynh.com/events/kula-yoga-fest-camp-kula-edition/
SUMMARY:Kula Yoga Fest: Camp Kula Edition
DESCRIPTION:The 4th Annual Kula Yoga Fest is glowing up for 2026\, moving t
 o the historic Ogontz White Mountains Resort in Lyman\, NH now as an all-i
 nclusive weekend.\n\nBilled as the “Kula Yoga Fest: Camp Kula Edition\,
 ” this three-day\, two-night retreat-style wellness festival takes place
  July 24-26\, 2026. Limited to just 200 guests\, the event offers an intim
 ate alternative to large-scale yoga festivals\, featuring unique presenter
 s\, farm-to-table cuisine\, rustic lodging and complete access to one of N
 ew England’s most exclusive private venues.\n\nThe all-inclusive weekend
  includges:\n\n 	Two nights of lakeview cottages\, rustic-chic forest cabi
 ns and individual rooms\n 	Six chef-prepared meals featuring fresh\, local
  ingredients\n 	Unlimited access to 30+ yoga and wellness sessions\n 	Stan
 d-up paddleboard yoga\, kayaking\, swimming\, and paddleboarding\n 	Hot tu
 b and sauna access\n 	Hiking excursions through 350 acres of White Mountai
 ns terrain\n 	Live music concerts and documentary screenings\n 	Tennis and
  pickleball courts and equipment\n 	Free parking\n\nOptional massage\, Rei
 ki\, and personal wellness services are available at cost.\n\nKula Yoga Fe
 st is New England’s premier yoga and wellness festival\, with an all-inc
 lusive model and distinctive programming. Founded by Laura Erickson in 202
 3\, the festival has attracted thousands of attendees from across the Unit
 ed States seeking experiences that stay with them. The festival takes plac
 e at Ogontz White Mountains Resort in Lyman\, New Hampshire. Learn more at
  kulayogafest.com.
ATTACH;FMTTYPE=image/jpeg:https://northconwaynh.com/wp-content/uploads/202
 6/03/KYF_26.Flyer_.jpg
CATEGORIES:Live music,Outdoors,Recreation,Yoga
LOCATION:https://maps.app.goo.gl/E3Xeb2RLyMUHmSC88
END:VEVENT
BEGIN:VTIMEZONE
TZID:America/New_York
X-LIC-LOCATION:America/New_York
BEGIN:DAYLIGHT
DTSTART:20260308T030000
TZOFFSETFROM:-0500
TZOFFSETTO:-0400
TZNAME:EDT
END:DAYLIGHT
END:VTIMEZONE
END:VCALENDAR