BEGIN:VCALENDAR
VERSION:2.0
PRODID:-//wp-events-plugin.com//7.2.3.1//EN
BEGIN:VEVENT
UID:821@northconwaynh.com
DTSTART;TZID=America/New_York:20260510T100000
DTEND;TZID=America/New_York:20260510T150000
DTSTAMP:20260421T162203Z
URL:https://northconwaynh.com/events/mothers-day-brunch-at-110-grill/
SUMMARY:Mother's Day Brunch at 110 Grill
DESCRIPTION:Come celebrate Mother's Day Brunch at 110 Grill!\nAvailable 10 
 AM - 3 PM on Sunday\, 5/10. 1858 White Mountain Hwy\, North Conway\, NH\n\
 nReservations are highly recommended!
ATTACH;FMTTYPE=image/jpeg:https://northconwaynh.com/wp-content/uploads/202
 6/04/Screenshot-2026-04-21-at-9.53.09-AM.png
CATEGORIES:Food &amp; Beverage
END:VEVENT
BEGIN:VTIMEZONE
TZID:America/New_York
X-LIC-LOCATION:America/New_York
BEGIN:DAYLIGHT
DTSTART:20260308T030000
TZOFFSETFROM:-0500
TZOFFSETTO:-0400
TZNAME:EDT
END:DAYLIGHT
END:VTIMEZONE
END:VCALENDAR