BEGIN:VCALENDAR
VERSION:2.0
PRODID:-//wp-events-plugin.com//7.2.3.1//EN
BEGIN:VEVENT
UID:826@northconwaynh.com
DTSTART;TZID=America/New_York:20260509T130000
DTEND;TZID=America/New_York:20260509T160000
DTSTAMP:20260422T170539Z
URL:https://northconwaynh.com/events/mothers-day-market-at-hobbs-taproom/
SUMMARY:Mother's Day Market at Hobbs Taproom
DESCRIPTION:We're making it easy to shop for Mom at the Mother's Day Market
  this year!\n\nOn Saturday\, May 9th we are hosting local artisans and mak
 ers selling handmade cards\, fresh flower bouquets and other gift ideas!\n
 \nFeaturing:\n\n 	Chill Hill Flowers (Arriving 2pm)\n 	Sarah's Ink - Handm
 ade cards\n 	Wanda Made Novelties - Gifts\n 	Goat Milk Soap Naturally\n 	R
 ock n' Shells\n 	Sylvie's Creepy Creations\n\n\nWhite Mountain Smokin' Que
  BBQ Food Truck will be on site\, so come hungry!\n\nSaturday\, May 9th\, 
 1-4pm\nHobbs Brewing Company Taproom\n765 RT-16\, Ossipee NH
ATTACH;FMTTYPE=image/jpeg:https://northconwaynh.com/wp-content/uploads/202
 6/04/Mothers-Day-3-square.png
CATEGORIES:Food &amp; Beverage,Shopping
END:VEVENT
BEGIN:VTIMEZONE
TZID:America/New_York
X-LIC-LOCATION:America/New_York
BEGIN:DAYLIGHT
DTSTART:20260308T030000
TZOFFSETFROM:-0500
TZOFFSETTO:-0400
TZNAME:EDT
END:DAYLIGHT
END:VTIMEZONE
END:VCALENDAR