BEGIN:VCALENDAR
VERSION:2.0
PRODID:-//wp-events-plugin.com//7.2.3.1//EN
BEGIN:VEVENT
UID:811@northconwaynh.com
DTSTART;TZID=America/New_York:20260613T000000
DTEND;TZID=America/New_York:20260621T000000
DTSTAMP:20260421T160001Z
URL:https://northconwaynh.com/events/motorcycle-week-free-shipping/
SUMMARY:Motorcycle Week Free Shipping
DESCRIPTION:Shop full throttle without filling up your entire saddlebag! Se
 lect stores are offering riders free in-store shipping during New Hampshir
 e Motorcycle Week\, taking place June 13–21\, 2026. Minimums and restric
 tions may apply.\n\nVisit settlersgreen.com/events/motorcycle-week-free-sh
 ipping for participating stores and details.
ATTACH;FMTTYPE=image/jpeg:https://northconwaynh.com/wp-content/uploads/202
 6/04/Motorcycle-Week-Website-Graphic.png
CATEGORIES:Shopping
LOCATION:Settlers Green\, 2 Common Court\, North Conway\, NH\, 03860\, Unit
 ed States
X-APPLE-STRUCTURED-LOCATION;VALUE=URI;X-ADDRESS=2 Common Court\, North Conw
 ay\, NH\, 03860\, United States;X-APPLE-RADIUS=100;X-TITLE=Settlers Green:
 geo:0,0
END:VEVENT
BEGIN:VTIMEZONE
TZID:America/New_York
X-LIC-LOCATION:America/New_York
BEGIN:DAYLIGHT
DTSTART:20260308T030000
TZOFFSETFROM:-0500
TZOFFSETTO:-0400
TZNAME:EDT
END:DAYLIGHT
END:VTIMEZONE
END:VCALENDAR