BEGIN:VCALENDAR
VERSION:2.0
PRODID:-//wp-events-plugin.com//7.2.3.1//EN
BEGIN:VEVENT
UID:32@northconwaynh.com
DTSTART;TZID=America/New_York:20250903T190000
DTEND;TZID=America/New_York:20250903T210000
DTSTAMP:20250821T161351Z
URL:https://northconwaynh.com/events/mountain-top-community-orchestra-pres
 ents-100-years-of-music-in-the-movies/
SUMMARY:Mountain Top Community Orchestra presents :100 years of Music in th
 e Movies!
DESCRIPTION:Mountain Top Community Orchestra\, local and fabulous\, perform
  the Music of the Movies\, including Star Wars\, Last of the Mohicans\, Sa
 turday Night Fever\, and much much more!\n\nAttendance by Donation\n\nThe 
 Majestic Cafe opens to patrons at 6:00 pm for wine\, beer\, craft cocktail
 s and mocktails\, selected soft drinks\, and bottled water.
ATTACH;FMTTYPE=image/jpeg:https://northconwaynh.com/wp-content/uploads/202
 5/08/1589949519119.png
CATEGORIES:Art,Food &amp; Beverage,Live music,Summer music,Theater
LOCATION:The Majestic Theatre\, 36 Main st.\, Conway\, NH\, 03818\, United 
 States
X-APPLE-STRUCTURED-LOCATION;VALUE=URI;X-ADDRESS=36 Main st.\, Conway\, NH\,
  03818\, United States;X-APPLE-RADIUS=100;X-TITLE=The Majestic Theatre:geo
 :0,0
END:VEVENT
BEGIN:VTIMEZONE
TZID:America/New_York
X-LIC-LOCATION:America/New_York
BEGIN:DAYLIGHT
DTSTART:20250309T030000
TZOFFSETFROM:-0500
TZOFFSETTO:-0400
TZNAME:EDT
END:DAYLIGHT
END:VTIMEZONE
END:VCALENDAR