BEGIN:VCALENDAR
VERSION:2.0
PRODID:-//wp-events-plugin.com//7.2.3.1//EN
BEGIN:VEVENT
UID:802@northconwaynh.com
DTSTART;TZID=America/New_York:20260523T070000
DTEND;TZID=America/New_York:20260523T210000
DTSTAMP:20260327T134845Z
URL:https://northconwaynh.com/events/nashville-revue-concert/
SUMMARY:Nashville Revue Concert
DESCRIPTION:\n\nBack by popular demand! Jonathan Sarty and the New Country 
 Gentlemen return to Barnstormers to celebrate American Country Music's Leg
 ends.\n\n\n\n\nTICKETS\n\nJoin us at The Historic Barnstormers Theatre f
 or A Nashville Revue! Get ready to experience a taste of Nashville in the
  Mountains of New Hampshire. This in-person event will be a night you won'
 t forget\, celebrating the history and legendary heros of Classic American
  Country Music. Jonathan Sarty and the New Country Gentlemen perform the m
 usic of Hank Williams\, Johnny Cash\, Merle Haggard\, Kris Kristofferson\,
  Willie Nelson\, George Jones\, Marty Robbins\, Elvis Presley and others. 
 Add this date to your calendar and get ready to enjoy the spirit that made
  Nashville great\, right here in your own backyard!\n\n\n104 Main St\, Tam
 worth
ATTACH;FMTTYPE=image/jpeg:https://northconwaynh.com/wp-content/uploads/202
 6/03/BST-Nashville-Revue-social.png
CATEGORIES:Live music
LOCATION:The Barnstormers Theatre\, 104 Main Street\, Tamworth\, New Hampsh
 ire\,  03886\, White Mountains\, United States
X-APPLE-STRUCTURED-LOCATION;VALUE=URI;X-ADDRESS=104 Main Street\, Tamworth\
 , New Hampshire\,  03886\, White Mountains\, United States;X-APPLE-RADIUS=
 100;X-TITLE=The Barnstormers Theatre:geo:0,0
END:VEVENT
BEGIN:VTIMEZONE
TZID:America/New_York
X-LIC-LOCATION:America/New_York
BEGIN:DAYLIGHT
DTSTART:20260308T030000
TZOFFSETFROM:-0500
TZOFFSETTO:-0400
TZNAME:EDT
END:DAYLIGHT
END:VTIMEZONE
END:VCALENDAR