BEGIN:VCALENDAR
VERSION:2.0
PRODID:-//wp-events-plugin.com//7.2.3.1//EN
BEGIN:VEVENT
UID:793@northconwaynh.com
DTSTART;TZID=America/New_York:20261231T103000
DTEND;TZID=America/New_York:20261231T123000
DTSTAMP:20260311T024358Z
URL:https://northconwaynh.com/events/noon-years-eve-2/
SUMMARY:Noon Year's Eve
DESCRIPTION:Why stay up until midnight when you can celebrate at Noon inste
 ad! Presented by Sip &amp\; Sweets\, join us for a family-friendly celebra
 tion as we ring in the new year with entertainment\, raffles\, special off
 ers\, commemorative accessories and our own version of a ball drop. Join u
 s at The Square by Carter's (Suite B38) for a great time!\n\nVisit settler
 sgreen.com/events/noon-years-eve for more details.
ATTACH;FMTTYPE=image/jpeg:https://northconwaynh.com/wp-content/uploads/202
 6/03/Noon-Years-Eve-2000-x-800-px.png
CATEGORIES:New Years Eve,Outdoors,Shopping
LOCATION:Settlers Green\, 2 Common Court\, North Conway\, NH\, 03860\, Unit
 ed States
X-APPLE-STRUCTURED-LOCATION;VALUE=URI;X-ADDRESS=2 Common Court\, North Conw
 ay\, NH\, 03860\, United States;X-APPLE-RADIUS=100;X-TITLE=Settlers Green:
 geo:0,0
END:VEVENT
BEGIN:VTIMEZONE
TZID:America/New_York
X-LIC-LOCATION:America/New_York
BEGIN:STANDARD
DTSTART:20261101T010000
TZOFFSETFROM:-0400
TZOFFSETTO:-0500
TZNAME:EST
END:STANDARD
END:VTIMEZONE
END:VCALENDAR