BEGIN:VCALENDAR
VERSION:2.0
PRODID:-//wp-events-plugin.com//7.2.3.1//EN
BEGIN:VEVENT
UID:810@northconwaynh.com
DTSTART;TZID=America/New_York:20260718T160000
DTEND;TZID=America/New_York:20260718T190000
DTSTAMP:20260415T161705Z
URL:https://northconwaynh.com/events/seek-the-peak/
SUMMARY:Seek the Peak
DESCRIPTION:Join us this summer for Seek the Peak\, Mount Washington Observ
 atory's largest annual event!\nHike anywhere\, any day leading up to July 
 18th\, then celebrate with us at the Après Hike Celebration on 7/18 with 
 food\, music\, fun activities like rides on the Wildcat Express Chairlift\
 , prizes\, raffles\, and more. Your adventure fuels weather science and fo
 recasting on Mount Washington.\n\nLearn more at seekthepeak.org \n\n\n
ATTACH;FMTTYPE=image/jpeg:https://northconwaynh.com/wp-content/uploads/202
 6/04/Email-Header-2.png
CATEGORIES:Hiking,Nonprofit,Outdoor fundraiser,Outdoors
LOCATION:Jackson\, NH\, Route 16\, Jackson\, NH\, United States
X-APPLE-STRUCTURED-LOCATION;VALUE=URI;X-ADDRESS=Route 16\, Jackson\, NH\, U
 nited States;X-APPLE-RADIUS=100;X-TITLE=Jackson\, NH:geo:0,0
END:VEVENT
BEGIN:VTIMEZONE
TZID:America/New_York
X-LIC-LOCATION:America/New_York
BEGIN:DAYLIGHT
DTSTART:20260308T030000
TZOFFSETFROM:-0500
TZOFFSETTO:-0400
TZNAME:EDT
END:DAYLIGHT
END:VTIMEZONE
END:VCALENDAR