BEGIN:VCALENDAR
VERSION:2.0
PRODID:-//wp-events-plugin.com//7.2.3.1//EN
BEGIN:VEVENT
UID:825@northconwaynh.com
DTSTART;TZID=America/New_York:20260711T093000
DTEND;TZID=America/New_York:20260711T140000
DTSTAMP:20260422T001104Z
URL:https://northconwaynh.com/events/tamworth-author-fest/
SUMMARY:Tamworth Author Fest
DESCRIPTION:Sponsored by the Arts Council of Tamworth and the Cook Memori
 al Library\nCome to the Tamworth Author Fest and get to know 12 local auth
 ors\, hear them read from their work\, buy a book or two\, enter a raffle 
 to win a stack of books by the participating authors\, and learn how some 
 of the authors approach research.\nWe are honored to welcome author Julie
  Carrick Dalton as this year's keynote speaker!\n\nJulie Carrick Dalton 
 is the author of The Forest Becomes Her\, The Last Beekeeper\, and Wait
 ing for the Night Song. She is the winner of the New Hampshire Book Awards
 ' People's Choice for Best Novel\, and was a finalist for the Massachusett
 s Book Award\, the Siskiyou Prize for New Environmental Literature\, and t
 he WFWA Star Award. When she isn't reading or writing\, you can probably f
 ind Julie kayaking on Lake Winnipesaukee\, skiing\, swimming\, gardening\,
  or trying to track down her four children and two dogs.\n\nOther Featured
  Authors:\n\nAmy Kneeland (historical romance/pastiche)\nAna Hebra Flaste
 r (memoir and historical non-fiction)\nCary Flanagan (historical fiction
 )\nFiona Howell (Gothic historical fiction)\nJ.H. Diehl (children's\, YA
 \, and adult fiction)\nJohn Olszewski (true crime)\nK.C. Julius (fantasy
 )\nLiz Gauffreau (literary fiction\, historical fiction\, and poetry)\nMo
 rgan Dalton (children's books)\nRick Davidson and Bill Thompson (non-fic
 tion)\n\nRaffle:\n\nBuy a ticket for a chance to win a stack books donated
  by our Tamworth Author Fest authors! Tickets will be available to purchas
 e in person at the library and on the day of the event. Ticket price is $3
  each or 4 for $10. Raffle prize drawing will be held at 1:55 PM on July 1
 1. Proceeds will support the next Tamworth Author Fest!\n\nT-Shirt:\n\nWan
 t to proudly show off your love of literature? Pick up the official Tamwo
 rth Author Fest t-shirt! \n\nAll proceeds go to support the Tamworth Auth
 or Fest.
ATTACH;FMTTYPE=image/jpeg:https://northconwaynh.com/wp-content/uploads/202
 6/04/TAF-2026-Flyer.png
CATEGORIES:Nonprofit,The Arts
LOCATION:Cook Memorial Library\, 93 Main St.\, Tamworth\, NH\, 03886\, Unit
 ed States
X-APPLE-STRUCTURED-LOCATION;VALUE=URI;X-ADDRESS=93 Main St.\, Tamworth\, NH
 \, 03886\, United States;X-APPLE-RADIUS=100;X-TITLE=Cook Memorial Library:
 geo:0,0
END:VEVENT
BEGIN:VTIMEZONE
TZID:America/New_York
X-LIC-LOCATION:America/New_York
BEGIN:DAYLIGHT
DTSTART:20260308T030000
TZOFFSETFROM:-0500
TZOFFSETTO:-0400
TZNAME:EDT
END:DAYLIGHT
END:VTIMEZONE
END:VCALENDAR