BEGIN:VCALENDAR
VERSION:2.0
PRODID:-//wp-events-plugin.com//7.2.3.1//EN
BEGIN:VEVENT
UID:797@northconwaynh.com
DTSTART;TZID=America/New_York:20260530T090000
DTEND;TZID=America/New_York:20260530T130000
DTSTAMP:20260312T233644Z
URL:https://northconwaynh.com/events/tamworth-swift-river-regatta-race-day
 /
SUMMARY:Tamworth Swift River Regatta - Race Day
DESCRIPTION:The Arts Council of Tamworth is pleased to host the second annu
 al Tamworth Swift River Regatta on Saturday\, May 30th.\nKids of all ages 
 and their families are invited to join in the friendly competition\, which
  is a great spectator event. Competitors will customize and decorate a 9
 ” pine wooden model sailboat and compete for cash and other prizes in th
 e Swift River course that passes through the center of town. The boats\, b
 uilt in Tamworth by Swift River Wood Products\, are available for advance 
 purchase here online or at the Tamworth Farmer’s Market on May 16th. Onl
 y 35 boats will be available.\n\nThe prizes will be $50 for first place (i
 n both youth and adult divisions) and $25 for second place (in both youth 
 and adult divisions). There will also be prizes for best-decorated boat!\n
 \nCompetitors will want to get their boats early as they’re all invited 
 to a free Paint Your Boat workshop on May 17th from 1 PM to 3 PM at Runne
 lls Hall in Chocorua\, hosted by the Arts Council. \n\nAll boat sales hel
 p to fund the Arts Council's events and programming!\n\nEvent Schedule for
  May 30th\n\n 	9 AM - 11 AM: Boat registration at the Tamworth Farmers Mar
 ket. Competitors will drop off their boats at the ACT table.\n 	11:30 AM: 
 Event volunteers will take the boats to the race starting line. (Sorry\, b
 ut only volunteers will be allowed to transfer the boats.)\n 	12 PM: The r
 ace begins! There should be good viewing from the bridge\, from behind the
  Tamworth Bakery\, and from behind Tamworth Distilling.\n 	12:30 PM (appro
 ximate): The race finishes behind Tamworth Distilling! Prizes will be awar
 ded\, and all boats will be returned to competitors after all prizes have 
 been given out.\n
ATTACH;FMTTYPE=image/jpeg:https://northconwaynh.com/wp-content/uploads/202
 6/03/2026-Regatta-Facebook-Cover.png
CATEGORIES:Nonprofit,Outdoor fundraiser,Race
LOCATION:Cook Memorial Library\, 93 Main St.\, Tamworth\, NH\, 03886\, Unit
 ed States
X-APPLE-STRUCTURED-LOCATION;VALUE=URI;X-ADDRESS=93 Main St.\, Tamworth\, NH
 \, 03886\, United States;X-APPLE-RADIUS=100;X-TITLE=Cook Memorial Library:
 geo:0,0
END:VEVENT
BEGIN:VTIMEZONE
TZID:America/New_York
X-LIC-LOCATION:America/New_York
BEGIN:DAYLIGHT
DTSTART:20260308T030000
TZOFFSETFROM:-0500
TZOFFSETTO:-0400
TZNAME:EDT
END:DAYLIGHT
END:VTIMEZONE
END:VCALENDAR