BEGIN:VCALENDAR
VERSION:2.0
PRODID:-//wp-events-plugin.com//7.2.3.1//EN
BEGIN:VEVENT
UID:823@northconwaynh.com
DTSTART;TZID=America/New_York:20260822T000000
DTEND;TZID=America/New_York:20260823T170000
DTSTAMP:20260422T001156Z
URL:https://northconwaynh.com/events/wilderness-first-aid-wfa-by-solo/
SUMMARY:Wilderness First Aid (WFA) by SOLO
DESCRIPTION:\nOf all the skillsets hikers and other outdoor enthusiasts may
  possess\, backcountry medical training is perhaps the epitome of value.\n
 If you hike and spend time in remote locations outside of the “golden ho
 ur” (meaning an hour or more from typical urban medical services)\, deal
 ing with injury or illness at some point — even if it’s not your own 
 — is likely. Getting the proper training will prepare you for this unwel
 come eventuality and an appropriate backcountry medical response. And do k
 now this: we strongly encourage preparedness. On this page we are offering
  SOLO-run Wilderness First Aid (WFA\, or said as “WooFAh”) courses\, p
 lus CPR/AED. These courses also qualify for Wilderness First Responder (WF
 R\, or said as “WooFeR”) recertification. There is no additional charg
 e for this.\nSpecial Information\nThese Wilderness First Aid courses are d
 ifferent than our typical\, completely customizable offerings\, in the fol
 lowing ways:\n\n 	» These courses have a minimum participant count of twe
 lve (12) students\, and are thus contingent upon those requirements being 
 met.\n 	» The minimum age for the WFA is 12 years old with a paying adult
 \, or 16 years old without accompaniment (only mature students need apply)
 .\n 	» These courses are taught by highly-qualified and very personable i
 nstructors from the SOLO School of Wilderness Medicine.\n 	» Custom sched
 uling may be available to self-formed groups of 10 or more. To secure a pr
 ivate group course at your location\, contact us.\n\n\n\nActivity Offering
 s\nRedline Guiding\, along with Wild Raven Endurance Coaching\, is offerin
 g 16-hour SOLO WFA (Wilderness First Aid) courses held at the AMC’s Joe 
 Dodge Lodge in Pinkham Notch. Students will be issued textbooks to keep an
 d morning refreshments served. These are 8am-5pm weekend courses with the
  5-7pm CPR component coming right after day one’s regular class.\n\nTher
 e is testing at the end of day two (those doing this for WFR recertificati
 on get a separate test)\, followed by the issuance of the applicable crede
 ntials and a huge after-party (kidding about the party). In either case 
 — WFA or WFR Re-cert\, the following subject matter is covered in depth.
 \n\n
ATTACH;FMTTYPE=image/jpeg:https://northconwaynh.com/wp-content/uploads/202
 6/04/IMG_2496.jpeg
CATEGORIES:Education,Hiking,Outdoors,Recreation
LOCATION:https://redlineguiding.com/education/wilderness-first-aid/
END:VEVENT
BEGIN:VTIMEZONE
TZID:America/New_York
X-LIC-LOCATION:America/New_York
BEGIN:DAYLIGHT
DTSTART:20260308T030000
TZOFFSETFROM:-0500
TZOFFSETTO:-0400
TZNAME:EDT
END:DAYLIGHT
END:VTIMEZONE
END:VCALENDAR